Package: transomics2cytoscape Version: 1.14.1 Command: rm -rf transomics2cytoscape.buildbin-libdir && mkdir transomics2cytoscape.buildbin-libdir && /Users/biocbuild/BBS/utils/build-universal.sh transomics2cytoscape_1.14.1.tar.gz /Library/Frameworks/R.framework/Resources/bin/R transomics2cytoscape.buildbin-libdir StartedAt: 2024-10-17 17:23:04 -0400 (Thu, 17 Oct 2024) EndedAt: 2024-10-17 17:23:17 -0400 (Thu, 17 Oct 2024) EllapsedTime: 13.2 seconds RetCode: 0 Status: OK PackageFile: transomics2cytoscape_1.14.1.tgz PackageFileSize: 11.85 MiB