Package: transomics2cytoscape Version: 1.14.0 Command: /Library/Frameworks/R.framework/Resources/bin/R CMD check --install=check:transomics2cytoscape.install-out.txt --library=/Library/Frameworks/R.framework/Resources/library --no-vignettes --timings transomics2cytoscape_1.14.0.tar.gz StartedAt: 2024-06-09 23:37:38 -0400 (Sun, 09 Jun 2024) EndedAt: 2024-06-09 23:38:24 -0400 (Sun, 09 Jun 2024) EllapsedTime: 46.3 seconds RetCode: 0 Status: OK CheckDir: transomics2cytoscape.Rcheck Warnings: 0