Package: transomics2cytoscape Version: 1.14.1 Command: /Library/Frameworks/R.framework/Resources/bin/R CMD INSTALL transomics2cytoscape StartedAt: 2024-10-16 17:44:40 -0400 (Wed, 16 Oct 2024) EndedAt: 2024-10-16 17:44:44 -0400 (Wed, 16 Oct 2024) EllapsedTime: 4.0 seconds RetCode: 0 Status: OK