Package: transmogR Version: 1.0.0 Command: /home/biocbuild/bbs-3.19-bioc/R/bin/R CMD build --keep-empty-dirs --no-resave-data transmogR StartedAt: 2024-10-16 21:13:46 -0400 (Wed, 16 Oct 2024) EndedAt: 2024-10-16 21:14:58 -0400 (Wed, 16 Oct 2024) EllapsedTime: 72.2 seconds RetCode: 0 Status: OK PackageFile: transmogR_1.0.0.tar.gz PackageFileSize: 538.2 KiB