Package: transmogR Version: 1.0.0 Maintainer: Stevie Pederson MaintainerEmail: stephen.pederson.au at gmail.com git_url: https://git.bioconductor.org/packages/transmogR git_branch: RELEASE_3_19 git_last_commit: 986a846 git_last_commit_date: 2024-04-30 11:54:12 -0400 (Tue, 30 Apr 2024)