Package: transite Version: 1.22.0 Command: E:\biocbuild\bbs-3.19-bioc\R\bin\R.exe CMD INSTALL transite StartedAt: 2024-10-16 16:25:52 -0400 (Wed, 16 Oct 2024) EndedAt: 2024-10-16 16:26:35 -0400 (Wed, 16 Oct 2024) EllapsedTime: 43.0 seconds RetCode: 0 Status: OK