Package: transite Version: 1.22.0 Command: rm -rf transite.buildbin-libdir && mkdir transite.buildbin-libdir && /Users/biocbuild/BBS/utils/build-universal.sh transite_1.22.0.tar.gz /Library/Frameworks/R.framework/Resources/bin/R transite.buildbin-libdir StartedAt: 2024-06-11 13:35:50 -0400 (Tue, 11 Jun 2024) EndedAt: 2024-06-11 13:36:32 -0400 (Tue, 11 Jun 2024) EllapsedTime: 42.4 seconds RetCode: 0 Status: OK PackageFile: transite_1.22.0.tgz PackageFileSize: 1.005 MiB