Package: transformGamPoi Version: 1.10.0 Command: /home/biocbuild/bbs-3.19-bioc/R/bin/R CMD build --keep-empty-dirs --no-resave-data transformGamPoi StartedAt: 2024-10-16 21:13:19 -0400 (Wed, 16 Oct 2024) EndedAt: 2024-10-16 21:14:02 -0400 (Wed, 16 Oct 2024) EllapsedTime: 43.1 seconds RetCode: 0 Status: OK PackageFile: transformGamPoi_1.10.0.tar.gz PackageFileSize: 615.1 KiB