Package: transformGamPoi Version: 1.10.0 Command: rm -rf transformGamPoi.buildbin-libdir && mkdir transformGamPoi.buildbin-libdir && /Users/biocbuild/BBS/utils/build-universal.sh transformGamPoi_1.10.0.tar.gz /Library/Frameworks/R.framework/Resources/bin/R transformGamPoi.buildbin-libdir StartedAt: 2024-06-10 00:44:17 -0400 (Mon, 10 Jun 2024) EndedAt: 2024-06-10 00:44:36 -0400 (Mon, 10 Jun 2024) EllapsedTime: 19.4 seconds RetCode: 0 Status: OK PackageFile: transformGamPoi_1.10.0.tgz PackageFileSize: 699.9 KiB