Package: transformGamPoi Version: 1.10.0 Command: /home/biocbuild/R/R-beta-2024-04-15_r86425/bin/R CMD build --keep-empty-dirs --no-resave-data transformGamPoi StartedAt: 2024-05-09 04:10:57 -0000 (Thu, 09 May 2024) EndedAt: 2024-05-09 04:12:11 -0000 (Thu, 09 May 2024) EllapsedTime: 74.1 seconds RetCode: 0 Status: OK PackageFile: transformGamPoi_1.10.0.tar.gz PackageFileSize: 540.2 KiB