Package: transformGamPoi Version: 1.10.0 Command: /Library/Frameworks/R.framework/Resources/bin/R CMD check --install=check:transformGamPoi.install-out.txt --library=/Library/Frameworks/R.framework/Resources/library --no-vignettes --timings transformGamPoi_1.10.0.tar.gz StartedAt: 2024-06-11 08:37:34 -0400 (Tue, 11 Jun 2024) EndedAt: 2024-06-11 08:42:14 -0400 (Tue, 11 Jun 2024) EllapsedTime: 279.9 seconds RetCode: 0 Status: OK CheckDir: transformGamPoi.Rcheck Warnings: 0