Package: transformGamPoi Version: 1.10.0 Command: rm -rf transformGamPoi.buildbin-libdir && mkdir transformGamPoi.buildbin-libdir && /Users/biocbuild/BBS/utils/build-universal.sh transformGamPoi_1.10.0.tar.gz /Library/Frameworks/R.framework/Resources/bin/R transformGamPoi.buildbin-libdir StartedAt: 2024-06-11 13:35:46 -0400 (Tue, 11 Jun 2024) EndedAt: 2024-06-11 13:36:11 -0400 (Tue, 11 Jun 2024) EllapsedTime: 25.5 seconds RetCode: 0 Status: OK PackageFile: transformGamPoi_1.10.0.tgz PackageFileSize: 698.1 KiB