Package: transformGamPoi Version: 1.10.0 Command: rm -rf transformGamPoi.buildbin-libdir && mkdir transformGamPoi.buildbin-libdir && /Users/biocbuild/BBS/utils/build-universal.sh transformGamPoi_1.10.0.tar.gz /Library/Frameworks/R.framework/Resources/bin/R transformGamPoi.buildbin-libdir StartedAt: 2024-10-15 20:40:54 -0400 (Tue, 15 Oct 2024) EndedAt: 2024-10-15 20:41:12 -0400 (Tue, 15 Oct 2024) EllapsedTime: 18.2 seconds RetCode: 0 Status: OK PackageFile: transformGamPoi_1.10.0.tgz PackageFileSize: 699.5 KiB