Package: transcriptogramer Version: 1.26.0 Command: chmod a+r transcriptogramer -R && F:\biocbuild\bbs-3.19-bioc\R\bin\R.exe CMD build --keep-empty-dirs --no-resave-data transcriptogramer StartedAt: 2024-06-26 22:25:34 -0400 (Wed, 26 Jun 2024) EndedAt: 2024-06-26 22:41:26 -0400 (Wed, 26 Jun 2024) EllapsedTime: 952.1 seconds RetCode: 0 Status: OK PackageFile: transcriptogramer_1.26.0.tar.gz PackageFileSize: 3.63 MiB