Package: transcriptogramer Version: 1.26.0 Command: /home/biocbuild/bbs-3.19-bioc/R/bin/R CMD check --install=check:transcriptogramer.install-out.txt --library=/home/biocbuild/bbs-3.19-bioc/R/site-library --timings transcriptogramer_1.26.0.tar.gz StartedAt: 2024-10-17 06:00:15 -0400 (Thu, 17 Oct 2024) EndedAt: 2024-10-17 06:15:40 -0400 (Thu, 17 Oct 2024) EllapsedTime: 924.9 seconds RetCode: 0 Status: OK CheckDir: transcriptogramer.Rcheck Warnings: 0