Package: transcriptogramer Version: 1.26.0 Command: /home/biocbuild/bbs-3.19-bioc/R/bin/R CMD build --keep-empty-dirs --no-resave-data transcriptogramer StartedAt: 2024-10-16 21:13:14 -0400 (Wed, 16 Oct 2024) EndedAt: 2024-10-16 21:25:18 -0400 (Wed, 16 Oct 2024) EllapsedTime: 724.8 seconds RetCode: 0 Status: OK PackageFile: transcriptogramer_1.26.0.tar.gz PackageFileSize: 3.63 MiB