Package: transcriptogramer Version: 1.26.0 Command: /home/biocbuild/R/R-beta-2024-04-15_r86425/bin/R CMD build --keep-empty-dirs --no-resave-data transcriptogramer StartedAt: 2024-05-09 04:10:48 -0000 (Thu, 09 May 2024) EndedAt: 2024-05-09 04:31:44 -0000 (Thu, 09 May 2024) EllapsedTime: 1256.6 seconds RetCode: 0 Status: OK PackageFile: transcriptogramer_1.26.0.tar.gz PackageFileSize: 3.655 MiB