Package: transcriptogramer Version: 1.26.0 Command: /Library/Frameworks/R.framework/Resources/bin/R CMD build --keep-empty-dirs --no-resave-data transcriptogramer StartedAt: 2024-06-10 06:05:18 -0400 (Mon, 10 Jun 2024) EndedAt: 2024-06-10 06:25:37 -0400 (Mon, 10 Jun 2024) EllapsedTime: 1219.7 seconds RetCode: 0 Status: OK PackageFile: transcriptogramer_1.26.0.tar.gz PackageFileSize: 3.63 MiB