Package: transcriptogramer Version: 1.26.0 Command: /Library/Frameworks/R.framework/Resources/bin/R CMD INSTALL transcriptogramer StartedAt: 2024-10-16 17:09:08 -0400 (Wed, 16 Oct 2024) EndedAt: 2024-10-16 17:09:40 -0400 (Wed, 16 Oct 2024) EllapsedTime: 31.9 seconds RetCode: 0 Status: OK