Package: tradeSeq Version: 1.18.0 Command: /Library/Frameworks/R.framework/Resources/bin/R CMD INSTALL tradeSeq StartedAt: 2024-10-16 15:27:44 -0400 (Wed, 16 Oct 2024) EndedAt: 2024-10-16 15:28:54 -0400 (Wed, 16 Oct 2024) EllapsedTime: 69.5 seconds RetCode: 0 Status: OK