Package: tradeSeq Version: 1.18.0 Command: /Library/Frameworks/R.framework/Resources/bin/R CMD check --install=check:tradeSeq.install-out.txt --library=/Library/Frameworks/R.framework/Resources/library --no-vignettes --timings tradeSeq_1.18.0.tar.gz StartedAt: 2024-10-17 14:32:33 -0400 (Thu, 17 Oct 2024) EndedAt: 2024-10-17 15:12:33 -0400 (Thu, 17 Oct 2024) EllapsedTime: 2400.3 seconds RetCode: None Status: TIMEOUT CheckDir: tradeSeq.Rcheck Warnings: NA