Package: tradeSeq Version: 1.18.0 Command: /Library/Frameworks/R.framework/Resources/bin/R CMD build --keep-empty-dirs --no-resave-data tradeSeq StartedAt: 2024-10-17 00:02:33 -0400 (Thu, 17 Oct 2024) EndedAt: 2024-10-17 00:17:01 -0400 (Thu, 17 Oct 2024) EllapsedTime: 868.2 seconds RetCode: 0 Status: OK PackageFile: tradeSeq_1.18.0.tar.gz PackageFileSize: 5.966 MiB