Package: tradeSeq Version: 1.18.0 Command: /Library/Frameworks/R.framework/Resources/bin/R CMD build --keep-empty-dirs --no-resave-data tradeSeq StartedAt: 2024-06-09 18:27:33 -0400 (Sun, 09 Jun 2024) EndedAt: 2024-06-09 18:34:53 -0400 (Sun, 09 Jun 2024) EllapsedTime: 439.8 seconds RetCode: 0 Status: OK PackageFile: tradeSeq_1.18.0.tar.gz PackageFileSize: 5.966 MiB