Package: tradeSeq Version: 1.18.0 Command: /home/biocbuild/R/R-beta-2024-04-15_r86425/bin/R CMD build --keep-empty-dirs --no-resave-data tradeSeq StartedAt: 2024-05-09 04:10:38 -0000 (Thu, 09 May 2024) EndedAt: 2024-05-09 04:20:37 -0000 (Thu, 09 May 2024) EllapsedTime: 599.8 seconds RetCode: 0 Status: OK PackageFile: tradeSeq_1.18.0.tar.gz PackageFileSize: 3.481 MiB