Package: tradeSeq Version: 1.18.0 Command: rm -rf tradeSeq.buildbin-libdir && mkdir tradeSeq.buildbin-libdir && /Users/biocbuild/BBS/utils/build-universal.sh tradeSeq_1.18.0.tar.gz /Library/Frameworks/R.framework/Resources/bin/R tradeSeq.buildbin-libdir StartedAt: 2024-10-15 20:40:26 -0400 (Tue, 15 Oct 2024) EndedAt: 2024-10-15 20:41:13 -0400 (Tue, 15 Oct 2024) EllapsedTime: 46.5 seconds RetCode: 0 Status: OK PackageFile: tradeSeq_1.18.0.tgz PackageFileSize: 5.531 MiB