Package: tracktables Version: 1.38.0 Command: E:\biocbuild\bbs-3.19-bioc\R\bin\R.exe CMD check --no-multiarch --install=check:tracktables.install-out.txt --library=E:\biocbuild\bbs-3.19-bioc\R\library --no-vignettes --timings tracktables_1.38.0.tar.gz StartedAt: 2024-10-17 06:35:36 -0400 (Thu, 17 Oct 2024) EndedAt: 2024-10-17 06:37:28 -0400 (Thu, 17 Oct 2024) EllapsedTime: 111.4 seconds RetCode: 0 Status: WARNINGS CheckDir: tracktables.Rcheck Warnings: 1