Package: tracktables Version: 1.38.0 Command: /home/biocbuild/bbs-3.19-bioc/R/bin/R CMD build --keep-empty-dirs --no-resave-data tracktables StartedAt: 2024-10-16 21:12:39 -0400 (Wed, 16 Oct 2024) EndedAt: 2024-10-16 21:13:01 -0400 (Wed, 16 Oct 2024) EllapsedTime: 21.0 seconds RetCode: 0 Status: OK PackageFile: tracktables_1.38.0.tar.gz PackageFileSize: 356.4 KiB