Package: tracktables Version: 1.38.0 Command: rm -rf tracktables.buildbin-libdir && mkdir tracktables.buildbin-libdir && /Users/biocbuild/BBS/utils/build-universal.sh tracktables_1.38.0.tar.gz /Library/Frameworks/R.framework/Resources/bin/R tracktables.buildbin-libdir StartedAt: 2024-10-17 17:22:30 -0400 (Thu, 17 Oct 2024) EndedAt: 2024-10-17 17:23:05 -0400 (Thu, 17 Oct 2024) EllapsedTime: 35.4 seconds RetCode: 0 Status: OK PackageFile: tracktables_1.38.0.tgz PackageFileSize: 403.2 KiB