Package: tracktables Version: 1.38.0 Command: /home/biocbuild/R/R-beta-2024-04-15_r86425/bin/R CMD build --keep-empty-dirs --no-resave-data tracktables StartedAt: 2024-05-09 04:10:30 -0000 (Thu, 09 May 2024) EndedAt: 2024-05-09 04:10:57 -0000 (Thu, 09 May 2024) EllapsedTime: 27.0 seconds RetCode: 0 Status: OK PackageFile: tracktables_1.38.0.tar.gz PackageFileSize: 347.2 KiB