Package: tracktables Version: 1.38.0 Command: /Library/Frameworks/R.framework/Resources/bin/R CMD check --install=check:tracktables.install-out.txt --library=/Library/Frameworks/R.framework/Resources/library --no-vignettes --timings tracktables_1.38.0.tar.gz StartedAt: 2024-10-18 15:30:51 -0400 (Fri, 18 Oct 2024) EndedAt: 2024-10-18 15:32:57 -0400 (Fri, 18 Oct 2024) EllapsedTime: 125.0 seconds RetCode: 0 Status: WARNINGS CheckDir: tracktables.Rcheck Warnings: 1