Package: trackViewer Version: 1.40.0 Command: chmod a+r trackViewer -R && E:\biocbuild\bbs-3.19-bioc\R\bin\R.exe CMD build --keep-empty-dirs --no-resave-data trackViewer StartedAt: 2024-10-16 22:23:05 -0400 (Wed, 16 Oct 2024) EndedAt: 2024-10-16 22:36:16 -0400 (Wed, 16 Oct 2024) EllapsedTime: 790.9 seconds RetCode: 0 Status: OK PackageFile: trackViewer_1.40.0.tar.gz PackageFileSize: 5.609 MiB