Package: trackViewer Version: 1.40.0 Command: chmod a+r trackViewer -R && F:\biocbuild\bbs-3.19-bioc\R\bin\R.exe CMD build --keep-empty-dirs --no-resave-data trackViewer StartedAt: 2024-06-26 22:24:57 -0400 (Wed, 26 Jun 2024) EndedAt: 2024-06-26 22:39:09 -0400 (Wed, 26 Jun 2024) EllapsedTime: 851.4 seconds RetCode: 0 Status: OK PackageFile: trackViewer_1.40.0.tar.gz PackageFileSize: 5.594 MiB