Package: trackViewer Version: 1.40.0 Command: /Library/Frameworks/R.framework/Resources/bin/R CMD build --keep-empty-dirs --no-resave-data trackViewer StartedAt: 2024-06-09 18:27:26 -0400 (Sun, 09 Jun 2024) EndedAt: 2024-06-09 18:37:23 -0400 (Sun, 09 Jun 2024) EllapsedTime: 596.5 seconds RetCode: 0 Status: OK PackageFile: trackViewer_1.40.0.tar.gz PackageFileSize: 12.57 MiB