Package: trackViewer Version: 1.40.0 Command: rm -rf trackViewer.buildbin-libdir && mkdir trackViewer.buildbin-libdir && /Users/biocbuild/BBS/utils/build-universal.sh trackViewer_1.40.0.tar.gz /Library/Frameworks/R.framework/Resources/bin/R trackViewer.buildbin-libdir StartedAt: 2024-10-15 20:40:26 -0400 (Tue, 15 Oct 2024) EndedAt: 2024-10-15 20:41:57 -0400 (Tue, 15 Oct 2024) EllapsedTime: 90.9 seconds RetCode: 0 Status: OK PackageFile: trackViewer_1.40.0.tgz PackageFileSize: 13.4 MiB