Package: tpSVG Version: 1.0.0 Command: E:\biocbuild\bbs-3.19-bioc\R\bin\R.exe CMD INSTALL tpSVG StartedAt: 2024-10-16 17:22:25 -0400 (Wed, 16 Oct 2024) EndedAt: 2024-10-16 17:22:51 -0400 (Wed, 16 Oct 2024) EllapsedTime: 25.9 seconds RetCode: 0 Status: OK