Package: tpSVG Version: 1.0.0 Command: /home/biocbuild/bbs-3.19-bioc/R/bin/R CMD INSTALL tpSVG StartedAt: 2024-10-16 16:46:43 -0400 (Wed, 16 Oct 2024) EndedAt: 2024-10-16 16:47:06 -0400 (Wed, 16 Oct 2024) EllapsedTime: 22.5 seconds RetCode: 0 Status: OK