Package: tpSVG Version: 1.0.0 Command: /home/biocbuild/bbs-3.19-bioc/R/bin/R CMD build --keep-empty-dirs --no-resave-data tpSVG StartedAt: 2024-10-16 21:12:36 -0400 (Wed, 16 Oct 2024) EndedAt: 2024-10-16 21:14:08 -0400 (Wed, 16 Oct 2024) EllapsedTime: 91.2 seconds RetCode: 0 Status: OK PackageFile: tpSVG_1.0.0.tar.gz PackageFileSize: 1.237 MiB