Package: tpSVG Version: 1.0.0 Command: /Library/Frameworks/R.framework/Resources/bin/R CMD build --keep-empty-dirs --no-resave-data tpSVG StartedAt: 2024-10-17 00:01:42 -0400 (Thu, 17 Oct 2024) EndedAt: 2024-10-17 00:04:49 -0400 (Thu, 17 Oct 2024) EllapsedTime: 187.2 seconds RetCode: 0 Status: OK PackageFile: tpSVG_1.0.0.tar.gz PackageFileSize: 1.237 MiB