Package: tpSVG Version: 1.0.0 Command: /home/biocbuild/R/R-beta-2024-04-15_r86425/bin/R CMD build --keep-empty-dirs --no-resave-data tpSVG StartedAt: 2024-05-09 04:10:08 -0000 (Thu, 09 May 2024) EndedAt: 2024-05-09 04:10:57 -0000 (Thu, 09 May 2024) EllapsedTime: 48.1 seconds RetCode: 1 Status: ERROR PackageFile: None PackageFileSize: NA