Package: tpSVG Version: 1.0.0 Command: rm -rf tpSVG.buildbin-libdir && mkdir tpSVG.buildbin-libdir && /Users/biocbuild/BBS/utils/build-universal.sh tpSVG_1.0.0.tar.gz /Library/Frameworks/R.framework/Resources/bin/R tpSVG.buildbin-libdir StartedAt: 2024-10-15 20:40:19 -0400 (Tue, 15 Oct 2024) EndedAt: 2024-10-15 20:40:54 -0400 (Tue, 15 Oct 2024) EllapsedTime: 35.0 seconds RetCode: 0 Status: OK PackageFile: tpSVG_1.0.0.tgz PackageFileSize: 1.24 MiB