Package: topdownr Version: 1.26.0 Command: rm -rf topdownr.buildbin-libdir && mkdir topdownr.buildbin-libdir && E:\biocbuild\bbs-3.19-bioc\R\bin\R.exe CMD INSTALL --build --library=topdownr.buildbin-libdir topdownr_1.26.0.tar.gz StartedAt: 2024-10-17 08:47:44 -0400 (Thu, 17 Oct 2024) EndedAt: 2024-10-17 08:49:04 -0400 (Thu, 17 Oct 2024) EllapsedTime: 79.5 seconds RetCode: 0 Status: OK PackageFile: topdownr_1.26.0.zip PackageFileSize: 2.076 MiB