Package: topdownr Version: 1.26.0 Command: /home/biocbuild/R/R-beta-2024-04-15_r86425/bin/R CMD build --keep-empty-dirs --no-resave-data topdownr StartedAt: 2024-05-09 04:09:21 -0000 (Thu, 09 May 2024) EndedAt: 2024-05-09 04:11:14 -0000 (Thu, 09 May 2024) EllapsedTime: 112.2 seconds RetCode: 0 Status: OK PackageFile: topdownr_1.26.0.tar.gz PackageFileSize: 1.426 MiB