Package: topconfects Version: 1.20.0 Command: /Library/Frameworks/R.framework/Resources/bin/R CMD build --keep-empty-dirs --no-resave-data topconfects StartedAt: 2024-10-17 10:46:55 -0400 (Thu, 17 Oct 2024) EndedAt: 2024-10-17 10:49:18 -0400 (Thu, 17 Oct 2024) EllapsedTime: 143.3 seconds RetCode: 0 Status: OK PackageFile: topconfects_1.20.0.tar.gz PackageFileSize: 2.407 MiB