Package: topconfects Version: 1.20.0 Command: rm -rf topconfects.buildbin-libdir && mkdir topconfects.buildbin-libdir && /Users/biocbuild/BBS/utils/build-universal.sh topconfects_1.20.0.tar.gz /Library/Frameworks/R.framework/Resources/bin/R topconfects.buildbin-libdir StartedAt: 2024-10-15 20:39:44 -0400 (Tue, 15 Oct 2024) EndedAt: 2024-10-15 20:39:52 -0400 (Tue, 15 Oct 2024) EllapsedTime: 8.0 seconds RetCode: 0 Status: OK PackageFile: topconfects_1.20.0.tgz PackageFileSize: 2.552 MiB