Package: tomoda Version: 1.14.0 Command: E:\biocbuild\bbs-3.19-bioc\R\bin\R.exe CMD check --no-multiarch --install=check:tomoda.install-out.txt --library=E:\biocbuild\bbs-3.19-bioc\R\library --no-vignettes --timings tomoda_1.14.0.tar.gz StartedAt: 2024-10-17 06:34:11 -0400 (Thu, 17 Oct 2024) EndedAt: 2024-10-17 06:40:51 -0400 (Thu, 17 Oct 2024) EllapsedTime: 400.0 seconds RetCode: 0 Status: OK CheckDir: tomoda.Rcheck Warnings: 0