Package: tomoda Version: 1.14.0 Command: rm -rf tomoda.buildbin-libdir && mkdir tomoda.buildbin-libdir && F:\biocbuild\bbs-3.19-bioc\R\bin\R.exe CMD INSTALL --build --library=tomoda.buildbin-libdir tomoda_1.14.0.tar.gz StartedAt: 2024-06-27 09:03:16 -0400 (Thu, 27 Jun 2024) EndedAt: 2024-06-27 09:04:00 -0400 (Thu, 27 Jun 2024) EllapsedTime: 44.8 seconds RetCode: 0 Status: OK PackageFile: tomoda_1.14.0.zip PackageFileSize: 1.981 MiB