Package: tomoda Version: 1.14.0 Command: /home/biocbuild/bbs-3.19-bioc/R/bin/R CMD INSTALL tomoda StartedAt: 2024-10-16 15:59:21 -0400 (Wed, 16 Oct 2024) EndedAt: 2024-10-16 15:59:43 -0400 (Wed, 16 Oct 2024) EllapsedTime: 22.0 seconds RetCode: 0 Status: OK