Package: tomoda Version: 1.14.0 Command: /home/biocbuild/bbs-3.19-bioc/R/bin/R CMD check --install=check:tomoda.install-out.txt --library=/home/biocbuild/bbs-3.19-bioc/R/site-library --timings tomoda_1.14.0.tar.gz StartedAt: 2024-10-17 05:57:05 -0400 (Thu, 17 Oct 2024) EndedAt: 2024-10-17 06:03:38 -0400 (Thu, 17 Oct 2024) EllapsedTime: 392.8 seconds RetCode: 0 Status: OK CheckDir: tomoda.Rcheck Warnings: 0