Package: tomoda Version: 1.14.0 Command: /home/biocbuild/bbs-3.19-bioc/R/bin/R CMD build --keep-empty-dirs --no-resave-data tomoda StartedAt: 2024-10-16 21:11:53 -0400 (Wed, 16 Oct 2024) EndedAt: 2024-10-16 21:13:14 -0400 (Wed, 16 Oct 2024) EllapsedTime: 80.2 seconds RetCode: 0 Status: OK PackageFile: tomoda_1.14.0.tar.gz PackageFileSize: 2.583 MiB