Package: tomoda Version: 1.14.0 Command: /Library/Frameworks/R.framework/Resources/bin/R CMD INSTALL tomoda StartedAt: 2024-10-16 15:23:37 -0400 (Wed, 16 Oct 2024) EndedAt: 2024-10-16 15:24:35 -0400 (Wed, 16 Oct 2024) EllapsedTime: 57.5 seconds RetCode: 0 Status: OK